BEGIN:VCALENDAR
VERSION:2.0
PRODID:-//RIGHTHERE//CALENDARIZE IT V3.2//EN
BEGIN:VTIMEZONE
TZID:America/New_York
X-MICROSOFT-CDO-TZID:10
BEGIN:STANDARD
DTSTART:20251102T060000
TZOFFSETFROM:-0400
TZOFFSETTO:-0500
TZNAME:EST
END:STANDARD
BEGIN:DAYLIGHT
DTSTART:20260308T070000
TZOFFSETFROM:-0500
TZOFFSETTO:-0400
TZNAME:EDT
END:DAYLIGHT
BEGIN:STANDARD
DTSTART:20261101T060000
TZOFFSETFROM:-0400
TZOFFSETTO:-0500
TZNAME:EST
END:STANDARD
END:VTIMEZONE
BEGIN:VEVENT
UID:3762-events@sweet-grothendieck.74-208-165-145.plesk.page
DTSTART;TZID=America/New_York:20241203T100000
DTEND;TZID=America/New_York:20241203T110000
DTSTAMP;TZID=America/New_York:20241122T125748
SUMMARY:CSNCFL WIOA Orientation (Lake City)
RRULE:FREQ=WEEKLY;INTERVAL=1;UNTIL=20250603
EXDATE:20241224T140000Z,20241231T140000Z,20250603T140000Z
URL:https://sweet-grothendieck.74-208-165-145.plesk.page/events/csncfl-wioa
 -orientation-lake-city/
END:VEVENT
END:VCALENDAR