BEGIN:VCALENDAR
VERSION:2.0
PRODID:-//RIGHTHERE//CALENDARIZE IT V3.2//EN
BEGIN:VTIMEZONE
TZID:America/New_York
X-MICROSOFT-CDO-TZID:10
BEGIN:STANDARD
DTSTART:20251102T060000
TZOFFSETFROM:-0400
TZOFFSETTO:-0500
TZNAME:EST
END:STANDARD
BEGIN:DAYLIGHT
DTSTART:20260308T070000
TZOFFSETFROM:-0500
TZOFFSETTO:-0400
TZNAME:EDT
END:DAYLIGHT
BEGIN:STANDARD
DTSTART:20261101T060000
TZOFFSETFROM:-0400
TZOFFSETTO:-0500
TZNAME:EST
END:STANDARD
END:VTIMEZONE
BEGIN:VEVENT
UID:2944-events@sweet-grothendieck.74-208-165-145.plesk.page
DTSTART;TZID=America/New_York:20230321T120000
DTEND;TZID=America/New_York:20230321T130000
DTSTAMP;TZID=America/New_York:20230306T121346
SUMMARY:Special Joint Meeting: Dual County Workforce Development Council & 
 North Central Florida Workforce Development Board
URL:https://sweet-grothendieck.74-208-165-145.plesk.page/events/dual-county
 -workforce-development-council-north-central-florida-workforce-development
 -board-joint-meeting/
LOCATION:1112 North Main Street
END:VEVENT
END:VCALENDAR