BEGIN:VCALENDAR
VERSION:2.0
PRODID:-//RIGHTHERE//CALENDARIZE IT V3.2//EN
BEGIN:VTIMEZONE
TZID:America/New_York
X-MICROSOFT-CDO-TZID:10
BEGIN:STANDARD
DTSTART:20251102T060000
TZOFFSETFROM:-0400
TZOFFSETTO:-0500
TZNAME:EST
END:STANDARD
BEGIN:DAYLIGHT
DTSTART:20260308T070000
TZOFFSETFROM:-0500
TZOFFSETTO:-0400
TZNAME:EDT
END:DAYLIGHT
BEGIN:STANDARD
DTSTART:20261101T060000
TZOFFSETFROM:-0400
TZOFFSETTO:-0500
TZNAME:EST
END:STANDARD
END:VTIMEZONE
BEGIN:VEVENT
UID:2646-events@sweet-grothendieck.74-208-165-145.plesk.page
DTSTART;TZID=America/New_York:20220112T100000
DTEND;TZID=America/New_York:20220112T120000
DTSTAMP;TZID=America/New_York:20220106T122121
SUMMARY:Proposers Conference: REQUEST FOR PROPOSALS NO. 05-21 FOR YOUTH SER
 VICE PROVIDER
URL:https://sweet-grothendieck.74-208-165-145.plesk.page/events/proposers-c
 onference-request-for-proposals-no-05-21-for-youth-service-provider/
LOCATION:Virtual Only
END:VEVENT
END:VCALENDAR