BEGIN:VCALENDAR
VERSION:2.0
PRODID:-//RIGHTHERE//CALENDARIZE IT V3.2//EN
BEGIN:VTIMEZONE
TZID:America/New_York
X-MICROSOFT-CDO-TZID:10
BEGIN:STANDARD
DTSTART:20251102T060000
TZOFFSETFROM:-0400
TZOFFSETTO:-0500
TZNAME:EST
END:STANDARD
BEGIN:DAYLIGHT
DTSTART:20260308T070000
TZOFFSETFROM:-0500
TZOFFSETTO:-0400
TZNAME:EDT
END:DAYLIGHT
BEGIN:STANDARD
DTSTART:20261101T060000
TZOFFSETFROM:-0400
TZOFFSETTO:-0500
TZNAME:EST
END:STANDARD
END:VTIMEZONE
BEGIN:VEVENT
UID:2631-events@sweet-grothendieck.74-208-165-145.plesk.page
DTSTART;TZID=America/New_York:20211223T080000
DTEND;TZID=America/New_York:20211223T170000
DTSTAMP;TZID=America/New_York:20211221T122026
SUMMARY:OFFICES CLOSED: Holidays
RDATE;TZID=America/New_York;VALUE=PERIOD:20211224T080000/20211224T170000
URL:https://sweet-grothendieck.74-208-165-145.plesk.page/events/holidays/
LOCATION:1112 North Main Street
END:VEVENT
END:VCALENDAR