BEGIN:VCALENDAR
VERSION:2.0
PRODID:-//RIGHTHERE//CALENDARIZE IT V3.2//EN
BEGIN:VTIMEZONE
TZID:America/New_York
X-MICROSOFT-CDO-TZID:10
BEGIN:STANDARD
DTSTART:20251102T060000
TZOFFSETFROM:-0400
TZOFFSETTO:-0500
TZNAME:EST
END:STANDARD
BEGIN:DAYLIGHT
DTSTART:20260308T070000
TZOFFSETFROM:-0500
TZOFFSETTO:-0400
TZNAME:EDT
END:DAYLIGHT
BEGIN:STANDARD
DTSTART:20261101T060000
TZOFFSETFROM:-0400
TZOFFSETTO:-0500
TZNAME:EST
END:STANDARD
END:VTIMEZONE
BEGIN:VEVENT
UID:2590-events@sweet-grothendieck.74-208-165-145.plesk.page
DTSTART;TZID=America/New_York:20211013T100000
DTEND;TZID=America/New_York:20211013T130000
DTSTAMP;TZID=America/New_York:20211019T102558
SUMMARY:RECRUITMENT EVENT: City of Gainesville RTS
RDATE;TZID=America/New_York;VALUE=PERIOD:20211014T100000/20211014T130000
URL:https://sweet-grothendieck.74-208-165-145.plesk.page/events/recruitment
 -event-city-of-gainesville-rts/
LOCATION:RTS Administration Building
END:VEVENT
END:VCALENDAR