BEGIN:VCALENDAR
VERSION:2.0
PRODID:-//RIGHTHERE//CALENDARIZE IT V3.2//EN
BEGIN:VTIMEZONE
TZID:America/New_York
X-MICROSOFT-CDO-TZID:10
BEGIN:STANDARD
DTSTART:20251102T060000
TZOFFSETFROM:-0400
TZOFFSETTO:-0500
TZNAME:EST
END:STANDARD
BEGIN:DAYLIGHT
DTSTART:20260308T070000
TZOFFSETFROM:-0500
TZOFFSETTO:-0400
TZNAME:EDT
END:DAYLIGHT
BEGIN:STANDARD
DTSTART:20261101T060000
TZOFFSETFROM:-0400
TZOFFSETTO:-0500
TZNAME:EST
END:STANDARD
END:VTIMEZONE
BEGIN:VEVENT
UID:2525-events@sweet-grothendieck.74-208-165-145.plesk.page
DTSTART;TZID=America/New_York:20220622T143000
DTEND;TZID=America/New_York:20220622T153000
DTSTAMP;TZID=America/New_York:20210715T160934
SUMMARY:CANCELLED One-Stop Adult/Dislocated Worker Performance Committee Me
 eting (rescheduled to 06.22.22 from 06.16.22)
URL:https://sweet-grothendieck.74-208-165-145.plesk.page/events/one-stop-ad
 ult-dislocated-worker-performance-committee-meeting-7/
LOCATION:1112 North Main Street
END:VEVENT
END:VCALENDAR