BEGIN:VCALENDAR
VERSION:2.0
PRODID:-//RIGHTHERE//CALENDARIZE IT V3.2//EN
BEGIN:VTIMEZONE
TZID:America/New_York
X-MICROSOFT-CDO-TZID:10
BEGIN:STANDARD
DTSTART:20251102T060000
TZOFFSETFROM:-0400
TZOFFSETTO:-0500
TZNAME:EST
END:STANDARD
BEGIN:DAYLIGHT
DTSTART:20260308T070000
TZOFFSETFROM:-0500
TZOFFSETTO:-0400
TZNAME:EDT
END:DAYLIGHT
BEGIN:STANDARD
DTSTART:20261101T060000
TZOFFSETFROM:-0400
TZOFFSETTO:-0500
TZNAME:EST
END:STANDARD
END:VTIMEZONE
BEGIN:VEVENT
UID:2448-events@sweet-grothendieck.74-208-165-145.plesk.page
DTSTART;TZID=America/New_York:20210527T110000
DTEND;TZID=America/New_York:20210527T140000
DTSTAMP;TZID=America/New_York:20210525T132559
SUMMARY:CareerSource North Central Florida’s Grand Opening and Community 
 Block Party
URL:https://sweet-grothendieck.74-208-165-145.plesk.page/events/careersourc
 e-north-central-floridas-grand-opening-and-community-block-party/
LOCATION:1112 North Main Street\, Gainesville\, FL 32601
END:VEVENT
END:VCALENDAR